BEGIN:VCALENDAR
VERSION:2.0
PRODID:-//hacksw/handcal//NONSGML v1.0//EN
CALSCALE:GREGORIAN
BEGIN:VEVENT
LOCATION:QDOBA
DESCRIPTION:https://livingonthecheap.com/event/qdoba-free-chips-queso-full-moon-deal-12/
DTSTART;TZID=America/New_York:20261223T103000
DTEND;TZID=America/New_York:20261223T210000
SUMMARY:Enjoy FREE Chips & Queso at QDOBA
URL;VALUE=URI:https://livingonthecheap.com/event/qdoba-free-chips-queso-full-moon-deal-12/
DTSTAMP:20260421T040009
UID:69e72e893b2f4
END:VEVENT
END:VCALENDAR