BEGIN:VCALENDAR
VERSION:2.0
PRODID:-//hacksw/handcal//NONSGML v1.0//EN
CALSCALE:GREGORIAN
BEGIN:VEVENT
LOCATION:Wetzel's Pretzels
DESCRIPTION:https://livingonthecheap.com/event/free-pretzel-wetzels-national-day/
DTSTART;TZID=America/New_York:20260426T150000
DTEND;TZID=America/New_York:20260426T210000
SUMMARY:Get FREE Original Pretzel at Wetzel's Pretzels
URL;VALUE=URI:https://livingonthecheap.com/event/free-pretzel-wetzels-national-day/
DTSTAMP:20260424T004241
UID:69eaf4c1a8ef9
END:VEVENT
END:VCALENDAR